BEGIN:VCALENDAR
VERSION:2.0
PRODID:-//PYVOBJECT//NONSGML Version 1//EN
BEGIN:VEVENT
UID:21979:2545
DTSTART:20140827T180000
DTEND:20140827T213000
DESCRIPTION:
DTSTAMP:20260426T035506Z
SUMMARY:Dein Lebensweg
END:VEVENT
END:VCALENDAR
