BEGIN:VCALENDAR
VERSION:2.0
PRODID:-//PYVOBJECT//NONSGML Version 1//EN
BEGIN:VEVENT
UID:21979:2546
DTSTART:20140919T170000
DTEND:20140919T200000
DESCRIPTION:
DTSTAMP:20260425T180211Z
SUMMARY:Mein Freund - "Der Baum"
END:VEVENT
END:VCALENDAR
