BEGIN:VCALENDAR
VERSION:2.0
PRODID:-//PYVOBJECT//NONSGML Version 1//EN
BEGIN:VEVENT
UID:21979:2892
DTSTART:20150321T150000
DTEND:20150321T000000
DESCRIPTION:\n\nNähere Informationen unter www.energie-in-harmonie.net.\n
DTSTAMP:20260425T210242Z
SUMMARY:Tag der offenen Tür
END:VEVENT
END:VCALENDAR
