BEGIN:VCALENDAR
VERSION:2.0
PRODID:-//PYVOBJECT//NONSGML Version 1//EN
BEGIN:VEVENT
UID:21979:2915
DTSTART:20150301T000000
DTEND:20150331T000000
DESCRIPTION:
DTSTAMP:20260425T204312Z
SUMMARY:Wohlfühl-Angebot
END:VEVENT
END:VCALENDAR
